BEGIN:VCALENDAR
VERSION:2.0
PRODID:-//5.56.32.191//NONSGML kigkonsult.se iCalcreator 2.20//
CALSCALE:GREGORIAN
METHOD:PUBLISH
X-WR-TIMEZONE:Europe/Budapest
BEGIN:VEVENT
UID:event694@Ráckevei Dunaági Horgász Szövetség
DTSTAMP:20260424T104322Z
CATEGORIES:Versenyek
DESCRIPTION:IV. RDHSZ Junior Nyílt Casting kupa\nAz esemény csoportja: Vers
 enyek\nLink: https://rdhsz.hu/index.php?option=com_jem&view=event&id=694:i
 v-rdhsz-junior-nyilt-casting-kupa\n
DTSTART;VALUE=DATE:20260926
DTEND;VALUE=DATE:20260928
LOCATION:Szigetszentmártoni focipálya (Dunapart-felső utca)
SUMMARY:IV. RDHSZ Junior Nyílt Casting kupa
URL:https://rdhsz.hu/index.php?option=com_jem&view=event&id=694:iv-rdhsz-ju
 nior-nyilt-casting-kupa
END:VEVENT
END:VCALENDAR
