BEGIN:VCALENDAR
VERSION:2.0
PRODID:-//5.56.32.191//NONSGML kigkonsult.se iCalcreator 2.20//
CALSCALE:GREGORIAN
METHOD:PUBLISH
X-WR-TIMEZONE:Europe/Budapest
BEGIN:VEVENT
UID:event693@Ráckevei Dunaági Horgász Szövetség
DTSTAMP:20260424T103201Z
CATEGORIES:Versenyek
DESCRIPTION:VIII. RSD Open Pergető Kupa\nAz esemény csoportja: Versenyek\nL
 ink: https://rdhsz.hu/index.php?option=com_jem&view=event&id=693:viii-rsd-
 open-pergeto-kupa\n
DTSTART;VALUE=DATE:20260920
DTEND;VALUE=DATE:20260921
LOCATION:Szigetszentmárton\, Mártoni tanya\,Szigetszentmárton
SUMMARY:VIII. RSD Open Pergető Kupa
URL:https://rdhsz.hu/index.php?option=com_jem&view=event&id=693:viii-rsd-op
 en-pergeto-kupa
END:VEVENT
END:VCALENDAR
