BEGIN:VCALENDAR
VERSION:2.0
PRODID:-//5.56.32.191//NONSGML kigkonsult.se iCalcreator 2.20//
CALSCALE:GREGORIAN
METHOD:PUBLISH
X-WR-TIMEZONE:Europe/Budapest
BEGIN:VEVENT
UID:event692@Ráckevei Dunaági Horgász Szövetség
DTSTAMP:20260424T104321Z
CATEGORIES:Versenyek
DESCRIPTION:V. RDHSZ Törpefogó kupa\nAz esemény csoportja: Versenyek\nLink:
  https://rdhsz.hu/index.php?option=com_jem&view=event&id=692:v-rdhsz-torpe
 fogo-kupa\n
DTSTART;VALUE=DATE:20260919
DTEND;VALUE=DATE:20260920
LOCATION:Északi övcsatorna\, Szúnyogi zsilip alatti versenyp
SUMMARY:V. RDHSZ Törpefogó kupa
URL:https://rdhsz.hu/index.php?option=com_jem&view=event&id=692:v-rdhsz-tor
 pefogo-kupa
END:VEVENT
END:VCALENDAR
