BEGIN:VCALENDAR
VERSION:2.0
PRODID:-//5.56.32.191//NONSGML kigkonsult.se iCalcreator 2.20//
CALSCALE:GREGORIAN
METHOD:PUBLISH
X-WR-TIMEZONE:Europe/Budapest
BEGIN:VEVENT
UID:event691@Ráckevei Dunaági Horgász Szövetség
DTSTAMP:20260424T104245Z
CATEGORIES:Versenyek
DESCRIPTION:XIV. RSD CARP CUP\nAz esemény csoportja: Versenyek\nLink: https
 ://rdhsz.hu/index.php?option=com_jem&view=event&id=691:xiv-rsd-carp-cup\n
DTSTART;VALUE=DATE:20260907
DTEND;VALUE=DATE:20260912
LOCATION:Makád\, Ezüstpart\,2322 Makád
SUMMARY:XIV. RSD CARP CUP
URL:https://rdhsz.hu/index.php?option=com_jem&view=event&id=691:xiv-rsd-car
 p-cup
END:VEVENT
END:VCALENDAR
