BEGIN:VCALENDAR
VERSION:2.0
PRODID:-//5.56.32.191//NONSGML kigkonsult.se iCalcreator 2.20//
CALSCALE:GREGORIAN
METHOD:PUBLISH
X-WR-TIMEZONE:Europe/Budapest
BEGIN:VEVENT
UID:event689@Ráckevei Dunaági Horgász Szövetség
DTSTAMP:20260424T090550Z
CATEGORIES:Versenyek
DESCRIPTION:IX. RDHSZ Egyesületi Csapat Bajnokság\nAz esemény csoportja: Ve
 rsenyek\nLink: https://rdhsz.hu/index.php?option=com_jem&view=event&id=689
 :viii-rdhsz-egyesuleti-csapat-bajnoksag\n
DTSTART;VALUE=DATE:20260830
DTEND;VALUE=DATE:20260831
LOCATION:Dömsöd\, Illés László versenypálya\,Dömsöd
SUMMARY:IX. RDHSZ Egyesületi Csapat Bajnokság
URL:https://rdhsz.hu/index.php?option=com_jem&view=event&id=689:viii-rdhsz-
 egyesuleti-csapat-bajnoksag
END:VEVENT
END:VCALENDAR
