BEGIN:VCALENDAR
VERSION:2.0
PRODID:-//5.56.32.191//NONSGML kigkonsult.se iCalcreator 2.20//
CALSCALE:GREGORIAN
METHOD:PUBLISH
X-WR-TIMEZONE:Europe/Budapest
BEGIN:VEVENT
UID:event688@Ráckevei Dunaági Horgász Szövetség
DTSTAMP:20260424T104448Z
CATEGORIES:Versenyek
DESCRIPTION:LXII. RDHSZ Úszós Egyéni Bajnokság\nAz esemény csoportja: Verse
 nyek\nLink: https://rdhsz.hu/index.php?option=com_jem&view=event&id=688:lx
 ii-rdhsz-uszos-egyeni-bajnoksag\n
DTSTART;VALUE=DATE:20260905
DTEND;VALUE=DATE:20260907
LOCATION:Dömsöd\, Illés László versenypálya\,Dömsöd
SUMMARY:LXII. RDHSZ Úszós Egyéni Bajnokság
URL:https://rdhsz.hu/index.php?option=com_jem&view=event&id=688:lxii-rdhsz-
 uszos-egyeni-bajnoksag
END:VEVENT
END:VCALENDAR
