BEGIN:VCALENDAR
VERSION:2.0
PRODID:-//5.56.32.191//NONSGML kigkonsult.se iCalcreator 2.20//
CALSCALE:GREGORIAN
METHOD:PUBLISH
X-WR-TIMEZONE:Europe/Budapest
BEGIN:VEVENT
UID:event686@Ráckevei Dunaági Horgász Szövetség
DTSTAMP:20260424T090223Z
CATEGORIES:Versenyek
DESCRIPTION:II. RDHSZ Method Egyéni Bajnokság\nAz esemény csoportja: Versen
 yek\nLink: https://rdhsz.hu/index.php?option=com_jem&view=event&id=686:ii-
 rdhsz-method-egyeni-bajnoksag\n
DTSTART;VALUE=DATE:20260530
DTEND;VALUE=DATE:20260531
LOCATION:Csepeli versenypálya\,Budapest
SUMMARY:II. RDHSZ Method Egyéni Bajnokság
URL:https://rdhsz.hu/index.php?option=com_jem&view=event&id=686:ii-rdhsz-me
 thod-egyeni-bajnoksag
END:VEVENT
END:VCALENDAR
