BEGIN:VCALENDAR
VERSION:2.0
PRODID:-//5.56.32.191//NONSGML kigkonsult.se iCalcreator 2.20//
CALSCALE:GREGORIAN
METHOD:PUBLISH
X-WR-TIMEZONE:Europe/Budapest
BEGIN:VEVENT
UID:event685@Ráckevei Dunaági Horgász Szövetség
DTSTAMP:20260424T090551Z
CATEGORIES:Versenyek
DESCRIPTION:XII. RDHSZ Feeder Egyéni Bajnokság\nAz esemény csoportja: Verse
 nyek\nLink: https://rdhsz.hu/index.php?option=com_jem&view=event&id=685:xi
 i-rdhsz-feeder-egyeni-bajnoksag\n
DTSTART;VALUE=DATE:20260516
DTEND;VALUE=DATE:20260518
LOCATION:Csepeli versenypálya\,Budapest
SUMMARY:XII. RDHSZ Feeder Egyéni Bajnokság
URL:https://rdhsz.hu/index.php?option=com_jem&view=event&id=685:xii-rdhsz-f
 eeder-egyeni-bajnoksag
END:VEVENT
END:VCALENDAR
