BEGIN:VCALENDAR
VERSION:2.0
PRODID:-//5.56.32.191//NONSGML kigkonsult.se iCalcreator 2.20//
CALSCALE:GREGORIAN
METHOD:PUBLISH
X-WR-TIMEZONE:Europe/Budapest
BEGIN:VEVENT
UID:event684@Ráckevei Dunaági Horgász Szövetség
DTSTAMP:20260424T090518Z
CATEGORIES:Versenyek
DESCRIPTION:X. RDHSZ Feeder Csapat Bajnokság\nAz esemény csoportja: Verseny
 ek\nLink: https://rdhsz.hu/index.php?option=com_jem&view=event&id=684:x-rd
 hsz-feeder-csapat-bajnoksag\n
DTSTART;VALUE=DATE:20260509
DTEND;VALUE=DATE:20260511
LOCATION:Csepeli versenypálya\,Budapest
SUMMARY:X. RDHSZ Feeder Csapat Bajnokság
URL:https://rdhsz.hu/index.php?option=com_jem&view=event&id=684:x-rdhsz-fee
 der-csapat-bajnoksag
END:VEVENT
END:VCALENDAR
