BEGIN:VCALENDAR
VERSION:2.0
PRODID:-//5.56.32.191//NONSGML kigkonsult.se iCalcreator 2.20//
CALSCALE:GREGORIAN
METHOD:PUBLISH
X-WR-TIMEZONE:Europe/Budapest
BEGIN:VEVENT
UID:event628@Ráckevei Dunaági Horgász Szövetség
DTSTAMP:20260424T090913Z
CATEGORIES:Tilalmak
DESCRIPTION:Rablóhalas korlátozások a Gubovics-öbölben (Lajos-hókony) és a 
 ráckevei Árpád hídnál\nAz esemény csoportja: Tilalmak\nLink: https://rdhsz
 .hu/index.php?option=com_jem&view=event&id=628:rablohalas-korlatozasok-a-g
 ubovics-obolben-lajos-hokony-es-a-rackevei-arpad-hidnal\n
DTSTART;VALUE=DATE:20250101
DTEND;VALUE=DATE:20250301
SUMMARY:Rablóhalas korlátozások a Gubovics-öbölben (Lajos-hókony) és a ráck
 evei Árpád hídnál
URL:https://rdhsz.hu/index.php?option=com_jem&view=event&id=628:rablohalas-
 korlatozasok-a-gubovics-obolben-lajos-hokony-es-a-rackevei-arpad-hidnal
END:VEVENT
END:VCALENDAR
