BEGIN:VCALENDAR
VERSION:2.0
PRODID:-//5.56.32.191//NONSGML kigkonsult.se iCalcreator 2.20//
CALSCALE:GREGORIAN
METHOD:PUBLISH
X-WR-TIMEZONE:Europe/Budapest
BEGIN:VEVENT
UID:event591@Ráckevei Dunaági Horgász Szövetség
DTSTAMP:20260424T090612Z
CATEGORIES:Tilalmak
DESCRIPTION:Csuka fogásának tilalma\nAz esemény csoportja: Tilalmak\nLink: 
 https://rdhsz.hu/index.php?option=com_jem&view=event&id=591:csuka-fogasana
 k-tilalma\n
DTSTART;VALUE=DATE:20240201
DTEND;VALUE=DATE:20240401
SUMMARY:Csuka fogásának tilalma
URL:https://rdhsz.hu/index.php?option=com_jem&view=event&id=591:csuka-fogas
 anak-tilalma
END:VEVENT
END:VCALENDAR
