BEGIN:VCALENDAR
VERSION:2.0
PRODID:-//5.56.32.191//NONSGML kigkonsult.se iCalcreator 2.20//
CALSCALE:GREGORIAN
METHOD:PUBLISH
X-WR-TIMEZONE:Europe/Budapest
BEGIN:VEVENT
UID:event578@Ráckevei Dunaági Horgász Szövetség
DTSTAMP:20260424T104526Z
CATEGORIES:Versenyek
DESCRIPTION:I. RDHSZ Jótékonysági Horgászkupa \nAz esemény csoportja: Verse
 nyek\nLink: https://rdhsz.hu/index.php?option=com_jem&view=event&id=578:i-
 rdhsz-jotekonysagi-horgaszkupa\n
DTSTART;TZID=Europe/Budapest:20230319T070000
DTEND;TZID=Europe/Budapest:20230319T120000
LOCATION:Ráckeve\, piactér
SUMMARY:I. RDHSZ Jótékonysági Horgászkupa 
URL:https://rdhsz.hu/index.php?option=com_jem&view=event&id=578:i-rdhsz-jot
 ekonysagi-horgaszkupa
END:VEVENT
END:VCALENDAR
