BEGIN:VCALENDAR
VERSION:2.0
PRODID:-//5.56.32.191//NONSGML kigkonsult.se iCalcreator 2.20//
CALSCALE:GREGORIAN
METHOD:PUBLISH
X-WR-TIMEZONE:Europe/Budapest
BEGIN:VEVENT
UID:event548@Ráckevei Dunaági Horgász Szövetség
DTSTAMP:20260424T114353Z
CATEGORIES:Versenyek
DESCRIPTION:RDHSZ Feeder Egyéni Bajnokság\nAz esemény csoportja: Versenyek
 \nLink: https://rdhsz.hu/index.php?option=com_jem&view=event&id=548:rdhsz-
 feeder-egyeni-bajnoksag\n
DTSTART;VALUE=DATE:20220528
DTEND;VALUE=DATE:20220529
LOCATION:Csepeli versenypálya\,Budapest
SUMMARY:RDHSZ Feeder Egyéni Bajnokság
URL:https://rdhsz.hu/index.php?option=com_jem&view=event&id=548:rdhsz-feede
 r-egyeni-bajnoksag
END:VEVENT
END:VCALENDAR
