BEGIN:VCALENDAR
VERSION:2.0
PRODID:-//5.56.32.191//NONSGML kigkonsult.se iCalcreator 2.20//
CALSCALE:GREGORIAN
METHOD:PUBLISH
X-WR-TIMEZONE:Europe/Budapest
BEGIN:VEVENT
UID:event547@Ráckevei Dunaági Horgász Szövetség
DTSTAMP:20260424T121651Z
CATEGORIES:Versenyek
DESCRIPTION:RDHSZ Feeder Csapatbajnokság - A osztály\nAz esemény csoportja:
  Versenyek\nLink: https://rdhsz.hu/index.php?option=com_jem&view=event&id=
 547:rdhsz-feeder-csapatbajnoksag-a-osztaly\n
DTSTART;VALUE=DATE:20220515
DTEND;VALUE=DATE:20220516
LOCATION:Csepeli versenypálya\,Budapest
SUMMARY:RDHSZ Feeder Csapatbajnokság - A osztály
URL:https://rdhsz.hu/index.php?option=com_jem&view=event&id=547:rdhsz-feede
 r-csapatbajnoksag-a-osztaly
END:VEVENT
END:VCALENDAR
