BEGIN:VCALENDAR
VERSION:2.0
PRODID:-//5.56.32.191//NONSGML kigkonsult.se iCalcreator 2.20//
CALSCALE:GREGORIAN
METHOD:PUBLISH
X-WR-TIMEZONE:Europe/Budapest
BEGIN:VEVENT
UID:event545@Ráckevei Dunaági Horgász Szövetség
DTSTAMP:20260424T120320Z
CATEGORIES:Versenyek
DESCRIPTION:RDHSZ Egyéni Bajnokság\nAz esemény csoportja: Versenyek\nLink: 
 https://rdhsz.hu/index.php?option=com_jem&view=event&id=545:rdhsz-egyeni-b
 ajnoksag\n
DTSTART;VALUE=DATE:20220507
DTEND;VALUE=DATE:20220509
LOCATION:Csepeli versenypálya\,Budapest
SUMMARY:RDHSZ Egyéni Bajnokság
URL:https://rdhsz.hu/index.php?option=com_jem&view=event&id=545:rdhsz-egyen
 i-bajnoksag
END:VEVENT
END:VCALENDAR
