BEGIN:VCALENDAR
VERSION:2.0
PRODID:-//5.56.32.191//NONSGML kigkonsult.se iCalcreator 2.20//
CALSCALE:GREGORIAN
METHOD:PUBLISH
X-WR-TIMEZONE:Europe/Budapest
BEGIN:VEVENT
UID:event511@Ráckevei Dunaági Horgász Szövetség
DTSTAMP:20260425T172922Z
CATEGORIES:Egyéb rendezvények
DESCRIPTION:Versenysport felelősök megbeszélése\nAz esemény csoportja: Egyé
 b rendezvények\nLink: https://rdhsz.hu/index.php?option=com_jem&view=event
 &id=511:versenysport-felelosok-megbeszelese\n
DTSTART;VALUE=DATE:20210115
DTEND;VALUE=DATE:20210116
SUMMARY:Versenysport felelősök megbeszélése
URL:https://rdhsz.hu/index.php?option=com_jem&view=event&id=511:versenyspor
 t-felelosok-megbeszelese
END:VEVENT
END:VCALENDAR
