BEGIN:VCALENDAR
VERSION:2.0
PRODID:-//5.56.32.191//NONSGML kigkonsult.se iCalcreator 2.20//
CALSCALE:GREGORIAN
METHOD:PUBLISH
X-WR-TIMEZONE:Europe/Budapest
BEGIN:VEVENT
UID:event507@Ráckevei Dunaági Horgász Szövetség
DTSTAMP:20260425T192053Z
CATEGORIES:Versenyek
DESCRIPTION:IX. RSD Carp Cup\nAz esemény csoportja: Versenyek\nLink: https:
 //rdhsz.hu/index.php?option=com_jem&view=event&id=507:ix-rsd-carp-cup\n
DTSTART;TZID=Europe/Budapest:20210905T120000
DTEND;TZID=Europe/Budapest:20210910T160000
SUMMARY:IX. RSD Carp Cup
URL:https://rdhsz.hu/index.php?option=com_jem&view=event&id=507:ix-rsd-carp
 -cup
END:VEVENT
END:VCALENDAR
