BEGIN:VCALENDAR
VERSION:2.0
PRODID:-//5.56.32.191//NONSGML kigkonsult.se iCalcreator 2.20//
CALSCALE:GREGORIAN
METHOD:PUBLISH
X-WR-TIMEZONE:Europe/Budapest
BEGIN:VEVENT
UID:event492@Ráckevei Dunaági Horgász Szövetség
DTSTAMP:20260425T205532Z
CATEGORIES:Versenyek
DESCRIPTION:RSD-OPEN Csónakos Pergető Verseny\nAz esemény csoportja: Versen
 yek\nLink: https://rdhsz.hu/index.php?option=com_jem&view=event&id=492:rsd
 -open-csonakos-pergeto-verseny\n
DTSTART;TZID=Europe/Budapest:20201011T070000
DTEND;TZID=Europe/Budapest:20201011T070000
SUMMARY:RSD-OPEN Csónakos Pergető Verseny
URL:https://rdhsz.hu/index.php?option=com_jem&view=event&id=492:rsd-open-cs
 onakos-pergeto-verseny
END:VEVENT
END:VCALENDAR
