BEGIN:VCALENDAR
VERSION:2.0
PRODID:-//5.56.32.191//NONSGML kigkonsult.se iCalcreator 2.20//
CALSCALE:GREGORIAN
METHOD:PUBLISH
X-WR-TIMEZONE:Europe/Budapest
BEGIN:VEVENT
UID:event490@Ráckevei Dunaági Horgász Szövetség
DTSTAMP:20260425T192216Z
CATEGORIES:Versenyek
DESCRIPTION:RDHSZ-RSD Nyílt Pergető Kupa\nAz esemény csoportja: Versenyek\n
 Link: https://rdhsz.hu/index.php?option=com_jem&view=event&id=490:rdhsz-rs
 d-nyilt-pergeto-kupa\n
DTSTART;VALUE=DATE:20200809
DTEND;VALUE=DATE:20200810
SUMMARY:RDHSZ-RSD Nyílt Pergető Kupa
URL:https://rdhsz.hu/index.php?option=com_jem&view=event&id=490:rdhsz-rsd-n
 yilt-pergeto-kupa
END:VEVENT
END:VCALENDAR
