BEGIN:VCALENDAR
VERSION:2.0
PRODID:-//5.56.32.191//NONSGML kigkonsult.se iCalcreator 2.20//
CALSCALE:GREGORIAN
METHOD:PUBLISH
X-WR-TIMEZONE:Europe/Budapest
BEGIN:VEVENT
UID:event487@Ráckevei Dunaági Horgász Szövetség
DTSTAMP:20260425T192139Z
CATEGORIES:Egyéb rendezvények
DESCRIPTION:RDHSZ ifjúsági tábor\nAz esemény csoportja: Egyéb rendezvények
 \nLink: https://rdhsz.hu/index.php?option=com_jem&view=event&id=487:rdhsz-
 ifjusagi-tabor\n
DTSTART;VALUE=DATE:20200803
DTEND;VALUE=DATE:20200809
LOCATION:ORFK Oktatási és Kiképzési Központ Horgásztanyája\,2321 Szigetbecs
 e
SUMMARY:RDHSZ ifjúsági tábor
URL:https://rdhsz.hu/index.php?option=com_jem&view=event&id=487:rdhsz-ifjus
 agi-tabor
END:VEVENT
END:VCALENDAR
