BEGIN:VCALENDAR
VERSION:2.0
PRODID:-//5.56.32.191//NONSGML kigkonsult.se iCalcreator 2.20//
CALSCALE:GREGORIAN
METHOD:PUBLISH
X-WR-TIMEZONE:Europe/Budapest
BEGIN:VEVENT
UID:event486@Ráckevei Dunaági Horgász Szövetség
DTSTAMP:20260425T173903Z
CATEGORIES:Egyéb rendezvények
DESCRIPTION:RDHSZ gyermektábor\nAz esemény csoportja: Egyéb rendezvények\nL
 ink: https://rdhsz.hu/index.php?option=com_jem&view=event&id=486:rdhsz-gye
 rmektabor\n
DTSTART;VALUE=DATE:20200727
DTEND;VALUE=DATE:20200802
LOCATION:ORFK Oktatási és Kiképzési Központ Horgásztanyája\,2321 Szigetbecs
 e
SUMMARY:RDHSZ gyermektábor
URL:https://rdhsz.hu/index.php?option=com_jem&view=event&id=486:rdhsz-gyerm
 ektabor
END:VEVENT
END:VCALENDAR
