BEGIN:VCALENDAR
VERSION:2.0
PRODID:-//5.56.32.191//NONSGML kigkonsult.se iCalcreator 2.20//
CALSCALE:GREGORIAN
METHOD:PUBLISH
X-WR-TIMEZONE:Europe/Budapest
BEGIN:VEVENT
UID:event462@Ráckevei Dunaági Horgász Szövetség
DTSTAMP:20260425T160701Z
CATEGORIES:Tilalmak
DESCRIPTION:Kősüllő fogásának tilalma \nAz esemény csoportja: Tilalmak\nLin
 k: https://rdhsz.hu/index.php?option=com_jem&view=event&id=462:kosullo-fog
 asanak-tilalma\n
DTSTART;VALUE=DATE:20200302
DTEND;VALUE=DATE:20200701
SUMMARY:Kősüllő fogásának tilalma 
URL:https://rdhsz.hu/index.php?option=com_jem&view=event&id=462:kosullo-fog
 asanak-tilalma
END:VEVENT
END:VCALENDAR
