BEGIN:VCALENDAR
VERSION:2.0
PRODID:-//5.56.32.191//NONSGML kigkonsult.se iCalcreator 2.20//
CALSCALE:GREGORIAN
METHOD:PUBLISH
X-WR-TIMEZONE:Europe/Budapest
BEGIN:VEVENT
UID:event413@Ráckevei Dunaági Horgász Szövetség
DTSTAMP:20260425T224145Z
CATEGORIES:Egyéb rendezvények
DESCRIPTION:Gyermek és Ifjúsági Horgásztábor Szigetbecsén\nAz esemény csopo
 rtja: Egyéb rendezvények\nLink: https://rdhsz.hu/index.php?option=com_jem&
 view=event&id=413:gyermek-es-ifjusagi-horgasztabor-szigetbecsen\n
DTSTART;VALUE=DATE:20180806
DTEND;VALUE=DATE:20180819
LOCATION:ORFK Oktatási és Kiképzési Központ Horgásztanyája\,2321 Szigetbecs
 e
SUMMARY:Gyermek és Ifjúsági Horgásztábor Szigetbecsén
URL:https://rdhsz.hu/index.php?option=com_jem&view=event&id=413:gyermek-es-
 ifjusagi-horgasztabor-szigetbecsen
END:VEVENT
END:VCALENDAR
