BEGIN:VCALENDAR
VERSION:2.0
PRODID:-//5.56.32.191//NONSGML kigkonsult.se iCalcreator 2.20//
CALSCALE:GREGORIAN
METHOD:PUBLISH
X-WR-TIMEZONE:Europe/Budapest
BEGIN:VEVENT
UID:event407@Ráckevei Dunaági Horgász Szövetség
DTSTAMP:20260425T172923Z
CATEGORIES:Tilalmak
DESCRIPTION:Szonár használatának tilalma\nAz esemény csoportja: Tilalmak\nL
 ink: https://rdhsz.hu/index.php?option=com_jem&view=event&id=407:szonar-ha
 sznalatanak-tilalma\n
DTSTART;VALUE=DATE:20181101
DTEND;VALUE=DATE:20190316
SUMMARY:Szonár használatának tilalma
URL:https://rdhsz.hu/index.php?option=com_jem&view=event&id=407:szonar-hasz
 nalatanak-tilalma
END:VEVENT
END:VCALENDAR
