BEGIN:VCALENDAR
VERSION:2.0
PRODID:-//5.56.32.191//NONSGML kigkonsult.se iCalcreator 2.20//
CALSCALE:GREGORIAN
METHOD:PUBLISH
X-WR-TIMEZONE:Europe/Budapest
BEGIN:VEVENT
UID:event406@Ráckevei Dunaági Horgász Szövetség
DTSTAMP:20260425T222627Z
CATEGORIES:Tilalmak
DESCRIPTION:Harcsa megtartásának tilalma\nAz esemény csoportja: Tilalmak\nL
 ink: https://rdhsz.hu/index.php?option=com_jem&view=event&id=406:harcsa-me
 gtartasanak-tilalma\n
DTSTART;VALUE=DATE:20181101
DTEND;VALUE=DATE:20190301
SUMMARY:Harcsa megtartásának tilalma
URL:https://rdhsz.hu/index.php?option=com_jem&view=event&id=406:harcsa-megt
 artasanak-tilalma
END:VEVENT
END:VCALENDAR
