BEGIN:VCALENDAR
VERSION:2.0
PRODID:-//5.56.32.191//NONSGML kigkonsult.se iCalcreator 2.20//
CALSCALE:GREGORIAN
METHOD:PUBLISH
X-WR-TIMEZONE:Europe/Budapest
BEGIN:VEVENT
UID:event394@Ráckevei Dunaági Horgász Szövetség
DTSTAMP:20260426T015139Z
CATEGORIES:Tilalmak
DESCRIPTION:Általános horgászati tilalom a Francia-öbölben\nAz esemény csop
 ortja: Tilalmak\nLink: https://rdhsz.hu/index.php?option=com_jem&view=even
 t&id=394:altalanos-horgaszati-tilalom-a-francia-obolben\n
DTSTART;VALUE=DATE:20180101
DTEND;VALUE=DATE:20180302
SUMMARY:Általános horgászati tilalom a Francia-öbölben
URL:https://rdhsz.hu/index.php?option=com_jem&view=event&id=394:altalanos-h
 orgaszati-tilalom-a-francia-obolben
END:VEVENT
END:VCALENDAR
